BEGIN:VCALENDAR
VERSION:2.0
PRODID:-//Volleyball Club Mamer - ECPv4.9.2//NONSGML v1.0//EN
CALSCALE:GREGORIAN
METHOD:PUBLISH
X-WR-CALNAME:Volleyball Club Mamer
X-ORIGINAL-URL:http://bouch.btshub.lu/vcm
X-WR-CALDESC:Events for Volleyball Club Mamer
BEGIN:VEVENT
DTSTART;VALUE=DATE:20190622
DTEND;VALUE=DATE:20190623
DTSTAMP:20190822T081458
CREATED:20190513T085909Z
LAST-MODIFIED:20190513T085959Z
UID:552-1561161600-1561247999@bouch.btshub.lu
SUMMARY:Go 4 Beach
DESCRIPTION: \n
URL:http://bouch.btshub.lu/vcm/index.php/event/go-4-beach/
LOCATION:Centre de Loisirs  “Paul Glück”\, 9\, Rannerwee\, Capellen\, Capellen\, Luxembourg
END:VEVENT
END:VCALENDAR