BEGIN:VCALENDAR
VERSION:2.0
PRODID:-//Volleyball Club Mamer - ECPv4.9.2//NONSGML v1.0//EN
CALSCALE:GREGORIAN
METHOD:PUBLISH
X-WR-CALNAME:Volleyball Club Mamer
X-ORIGINAL-URL:http://bouch.btshub.lu/vcm
X-WR-CALDESC:Events for Volleyball Club Mamer
BEGIN:VEVENT
DTSTART;TZID=Europe/Luxembourg:20190518T140000
DTEND;TZID=Europe/Luxembourg:20190518T160000
DTSTAMP:20190822T081627
CREATED:20190505T204936Z
LAST-MODIFIED:20190505T204936Z
UID:343-1558188000-1558195200@bouch.btshub.lu
SUMMARY:Tournoi Minimes Divisioun 4
DESCRIPTION:
URL:http://bouch.btshub.lu/vcm/index.php/event/tournoi-minimes-divisioun-4/
LOCATION:Echternach\, Luxembourg
END:VEVENT
END:VCALENDAR