BEGIN:VCALENDAR
VERSION:2.0
PRODID:-//Volleyball Club Mamer - ECPv4.9.2//NONSGML v1.0//EN
CALSCALE:GREGORIAN
METHOD:PUBLISH
X-WR-CALNAME:Volleyball Club Mamer
X-ORIGINAL-URL:http://bouch.btshub.lu/vcm
X-WR-CALDESC:Events for Volleyball Club Mamer
BEGIN:VEVENT
DTSTART;VALUE=DATE:20190615
DTEND;VALUE=DATE:20190617
DTSTAMP:20190822T081522
CREATED:20190513T085722Z
LAST-MODIFIED:20190513T085722Z
UID:550-1560556800-1560729599@bouch.btshub.lu
SUMMARY:CU on the Beach
DESCRIPTION: \n
URL:http://bouch.btshub.lu/vcm/index.php/event/cu-on-the-beach/
LOCATION:Centre de Loisirs  “Paul Glück”\, 9\, Rannerwee\, Capellen\, Capellen\, Luxembourg
END:VEVENT
END:VCALENDAR