BEGIN:VCALENDAR
VERSION:2.0
PRODID:-//Volleyball Club Mamer - ECPv4.9.2//NONSGML v1.0//EN
CALSCALE:GREGORIAN
METHOD:PUBLISH
X-WR-CALNAME:Volleyball Club Mamer
X-ORIGINAL-URL:http://bouch.btshub.lu/vcm
X-WR-CALDESC:Events for Volleyball Club Mamer
BEGIN:VEVENT
DTSTART;TZID=Europe/Luxembourg:20190518T170000
DTEND;TZID=Europe/Luxembourg:20190518T190000
DTSTAMP:20190822T081708
CREATED:20190505T205145Z
LAST-MODIFIED:20190505T205145Z
UID:349-1558198800-1558206000@bouch.btshub.lu
SUMMARY:Cadettes 471R
DESCRIPTION:VC Belair – VC Mamer \n
URL:http://bouch.btshub.lu/vcm/index.php/event/cadettes-471r/
LOCATION:Hall Sportif Nicolas Frantz\, 1 rue de Bertrange\, Mamer\, L-8216\, Luxembourg
END:VEVENT
END:VCALENDAR